BEGIN:VCALENDAR
VERSION:2.0
PRODID:-//Agrupació Excursionista "Catalunya"//NONSGML kigkonsult.se iCalcreator 2.41.92//
CALSCALE:GREGORIAN
METHOD:PUBLISH
UID:36623531-6361-4031-b735-323965336664
X-WR-CALNAME:iCagenda
X-WR-CALDESC:Event Management Extension for Joomla!
X-WR-RELCALID:3E26604A-50F4-4449-8B3E-E4F4932D05B5
X-WR-TIMEZONE:Europe/Madrid
BEGIN:VTIMEZONE
TZID:Europe/Madrid
TZUNTIL:20271031T010000Z
BEGIN:STANDARD
TZNAME:CET
DTSTART:20241027T030000
TZOFFSETFROM:+0200
TZOFFSETTO:+0100
RDATE:20251026T030000
RDATE:20261025T030000
END:STANDARD
BEGIN:DAYLIGHT
TZNAME:CEST
DTSTART:20250330T020000
TZOFFSETFROM:+0100
TZOFFSETTO:+0200
RDATE:20260329T020000
RDATE:20270328T020000
END:DAYLIGHT
END:VTIMEZONE
BEGIN:VEVENT
UID:30353235-6664-4930-a438-623033366633
DTSTAMP:20260419T165042Z
CATEGORIES:ERE
CLASS:PUBLIC
DESCRIPTION;ALTREP="CID:<FFFF__=0ABBE548DFE235B58f9e8a93d@coffeebean.com>":
 Hi ha una aproximació d'uns 3 km a peu amb uns -200 + 150 m de desnivell a
  l'anada i -150+200 m de desnivell a la tornada.\nAvenc del Cataplanell (-
 62 m.p.) a Coll de Nargó\nhttps://espeleodijous.cat/index.php?node=97
DTSTART:20250927T095900Z
DTEND:20250927T095900Z
GEO:00;0
LOCATION:
ORGANIZER:
SEQUENCE:1
SUMMARY:Avenc del Cataplanell (Coll de Nargó)
TRANSP:OPAQUE
URL:https://aec.cat/component/icagenda/avenc-del-cataplanell
END:VEVENT
END:VCALENDAR
