BEGIN:VCALENDAR
VERSION:2.0
PRODID:-//Agrupació Excursionista "Catalunya"//NONSGML kigkonsult.se iCalcreator 2.41.92//
CALSCALE:GREGORIAN
METHOD:PUBLISH
UID:39323961-6632-4564-b961-396137366661
X-WR-CALNAME:iCagenda
X-WR-CALDESC:Event Management Extension for Joomla!
X-WR-RELCALID:3E26604A-50F4-4449-8B3E-E4F4932D05B5
X-WR-TIMEZONE:Europe/Madrid
BEGIN:VTIMEZONE
TZID:Europe/Madrid
TZUNTIL:20260329T010000Z
BEGIN:STANDARD
TZNAME:CET
DTSTART:20231029T030000
TZOFFSETFROM:+0200
TZOFFSETTO:+0100
RDATE:20241027T030000
RDATE:20251026T030000
END:STANDARD
BEGIN:DAYLIGHT
TZNAME:CEST
DTSTART:20240331T020000
TZOFFSETFROM:+0100
TZOFFSETTO:+0200
RDATE:20250330T020000
END:DAYLIGHT
END:VTIMEZONE
BEGIN:VEVENT
UID:66626664-6131-4165-b339-313764663539
DTSTAMP:20260425T102820Z
CATEGORIES:Dimecres al Sol
CLASS:PUBLIC
DESCRIPTION;ALTREP="CID:<FFFF__=0ABBE548DFE235B58f9e8a93d@coffeebean.com>":
 \nDia: Dimecres 22 de maig de 2024\nLloc i hora de trobada: A les 08.00 h.
  Al carrer Padilla cantonada Provença\, a les 08.15 h a Palau Reial.\nTran
 sport i inscripcions: Cotxes particulars. Cal apuntar-se pel grup de Whats
 App de Dimecres al Sol. També digueu qui pot portar cotxe per anar omplint
  places.\nDistància: 9.5 km. Desnivell: 290 m. Horari aprox. 3\,5 hores.\n
 Dificultat: Fàcil\, amb algun tram d’escales de mà.\nItinerari:  Recorregu
 t per la comarca de l’Anoia\, anem a Vilanova del Camí. Aquest municipi si
 tuat a la Conca Òdena\, va sorgir al voltant del camí ral que unia Catalun
 ya amb Aragó. Els Esgavellats un paratge singular d'interès botànic. Unes 
 formacions rocoses amb escletxes estretes i enfilades\, un laberint natura
 l amb un recorregut angost\, al que es pot accedir gràcies a unes escales 
 que permeten recórrer el seu interior.\nMaterial: Motxilla\, barret\, roba
  d’abric protectora del vent i pluja\, calçat de muntanya\, crema solar\, 
 aigua.\nÀpats: Esmorzar a Vilanova del Camí. Dinar de carmanyola al berena
 dor a prop del camp de futbol.\nVocal: Pere Mansilla (601 110 287) \nNorma
 tiva: És obligatori llegir i acomplir les Normes Generals de les sortides 
 de l’AEC.
DTSTART:20240522T114000Z
DTEND:20240522T114000Z
GEO:00;0
LOCATION:
ORGANIZER:
SEQUENCE:1
SUMMARY:Els Esgavellats i el Santuari de Collbàs
TRANSP:OPAQUE
URL:https://aec.cat/component/icagenda/els-esgavellats-i-el-santuari-de-col
 lbas
END:VEVENT
END:VCALENDAR
