BEGIN:VCALENDAR
VERSION:2.0
PRODID:-//Agrupació Excursionista "Catalunya"//NONSGML kigkonsult.se iCalcreator 2.41.92//
CALSCALE:GREGORIAN
METHOD:PUBLISH
UID:35316562-3165-4161-a633-356132386664
X-WR-CALNAME:iCagenda
X-WR-CALDESC:Event Management Extension for Joomla!
X-WR-RELCALID:3E26604A-50F4-4449-8B3E-E4F4932D05B5
X-WR-TIMEZONE:Europe/Madrid
BEGIN:VTIMEZONE
TZID:Europe/Madrid
TZUNTIL:20271031T010000Z
BEGIN:STANDARD
TZNAME:CET
DTSTART:20251026T030000
TZOFFSETFROM:+0200
TZOFFSETTO:+0100
RDATE:20261025T030000
END:STANDARD
BEGIN:DAYLIGHT
TZNAME:CEST
DTSTART:20260329T020000
TZOFFSETFROM:+0100
TZOFFSETTO:+0200
RDATE:20270328T020000
END:DAYLIGHT
END:VTIMEZONE
BEGIN:VEVENT
UID:31653961-6237-4336-b163-316463323866
DTSTAMP:20260422T124846Z
CATEGORIES:Dimecres al Sol
CLASS:PUBLIC
DESCRIPTION;ALTREP="CID:<FFFF__=0ABBE548DFE235B58f9e8a93d@coffeebean.com>":
 \nLloc i hora de trobada:  A les 07:30 h al carrer Padilla cantonada Prove
 nça\, a les 07:45 h a Fabra i Puig amb Meridiana.\nTransport i inscripcion
 s: Cotxes particulars. Cal apuntar-se pel grup de Whatsapp de Dimecres al 
 Sol. També digueu qui pot portar cotxe per anar omplint places.\nItinerari
 : Seguirem la ruta dels gorgs de la Cabana\, de la Tosca\, de l’Olla\, de 
 la Bauma\, del Forat i el petit i el gran del Colomer.\nRecorregut: 9\,5 k
 m. Desnivell: 220 m. Horari aproximat: 3 - 4 hores\nDificultat: Fàcil.\nMa
 terial: Motxilla\, barret\, roba d’abric protectora del vent i pluja\, cal
 çat de muntanya\, crema solar\, aigua i bastons de muntanya (opcionals). E
 smorzar al bar de les 4 carreteres. Dinar de carmanyola.\nApunts de la sor
 tida: Aquest recorregut transcorre pel Ripollès\, a prop de Campdevànol. E
 l camí està ben senyalitzat i transcorre per un entorn natural espectacula
 r. Els set gorgs més destacats són:\n\nGorg de la Cabana → El primer i un 
 dels més grans\, amb un salt d’aigua impressionant.\nGorg de la Tosca → Am
 b formes rocoses singulars i aigua cristal·lina.\nGorg de l’Olla → Petit p
 erò profund\, ideal per banyar-se.\nGorg de la Bauma → Amb una cascada que
  cau des d’una roca foradada.\nGorg del Forat → Un dels més amagats\, envo
 ltat de vegetació frondosa.\nGorg Petit del Colomer → Més tranquil i amb m
 enys afluència de gent.\nGorg Gran del Colomer → Amb una cascada alta i es
 pectacular.\n\nVocal: Pere Mansilla.\nNormativa: És obligatori llegir i ac
 omplir les Normes de les sortides de l’AEC.
DTSTART:20260422T090700Z
DTEND:20260422T090700Z
GEO:00;0
LOCATION:
ORGANIZER:
SEQUENCE:1
SUMMARY:La Ruta dels 7 Gorgs
TRANSP:OPAQUE
URL:https://aec.cat/component/icagenda/la-ruta-dels-7-gorgs/2026-04-22-11-0
 7
END:VEVENT
END:VCALENDAR
