BEGIN:VCALENDAR
VERSION:2.0
PRODID:-//Agrupació Excursionista "Catalunya"//NONSGML kigkonsult.se iCalcreator 2.41.92//
CALSCALE:GREGORIAN
METHOD:PUBLISH
UID:32353034-3537-4432-b763-373238383137
X-WR-CALNAME:iCagenda
X-WR-CALDESC:Event Management Extension for Joomla!
X-WR-RELCALID:3E26604A-50F4-4449-8B3E-E4F4932D05B5
X-WR-TIMEZONE:Europe/Madrid
BEGIN:VTIMEZONE
TZID:Europe/Madrid
TZUNTIL:20211031T010000Z
BEGIN:STANDARD
TZNAME:CET
DTSTART:20191027T030000
TZOFFSETFROM:+0200
TZOFFSETTO:+0100
RDATE:20201025T030000
END:STANDARD
BEGIN:DAYLIGHT
TZNAME:CEST
DTSTART:20190331T020000
TZOFFSETFROM:+0100
TZOFFSETTO:+0200
RDATE:20200329T020000
RDATE:20210328T020000
END:DAYLIGHT
END:VTIMEZONE
BEGIN:VEVENT
UID:38626461-6438-4031-a237-343566663862
DTSTAMP:20260422T234110Z
CATEGORIES:Cultura
CLASS:PUBLIC
DESCRIPTION;ALTREP="CID:<FFFF__=0ABBE548DFE235B58f9e8a93d@coffeebean.com>":
 Està situat a prop de la Panadella.  La visita és gratuïta.\nÉs una sortid
 a per a soci@s i segurament agafarem bus i dinarem pels voltants. \nEl pre
 u no està tancat. Calculeu aprox. 24€ bus i 22€ dinar. \nDefinirem el preu
  amb exactitud quan fem la inscripció en ferm: a finals de la primera setm
 ana de setembre. \nPodem ser unes 33/35 persones. \nVocal: Carme Capdevila
  (628 179 296)
DTSTART:20191130T230000Z
DTEND:20191130T230000Z
GEO:00;0
LOCATION:
ORGANIZER:
SEQUENCE:1
SUMMARY:Parc Eòlic de Montargull (Talavera)
TRANSP:OPAQUE
URL:https://aec.cat/component/icagenda/parc-eolic-de-montargull-talavera/20
 19-12-01-00-00?Itemid=178
END:VEVENT
END:VCALENDAR
