BEGIN:VCALENDAR
VERSION:2.0
PRODID:-//Agrupació Excursionista "Catalunya"//NONSGML kigkonsult.se iCalcreator 2.41.92//
CALSCALE:GREGORIAN
METHOD:PUBLISH
UID:38653466-3533-4931-a238-353339623936
X-WR-CALNAME:iCagenda
X-WR-CALDESC:Event Management Extension for Joomla!
X-WR-RELCALID:3E26604A-50F4-4449-8B3E-E4F4932D05B5
X-WR-TIMEZONE:Europe/Madrid
BEGIN:VTIMEZONE
TZID:Europe/Madrid
TZUNTIL:20211031T010000Z
BEGIN:STANDARD
TZNAME:CET
DTSTART:20191027T030000
TZOFFSETFROM:+0200
TZOFFSETTO:+0100
RDATE:20201025T030000
END:STANDARD
BEGIN:DAYLIGHT
TZNAME:CEST
DTSTART:20190331T020000
TZOFFSETFROM:+0100
TZOFFSETTO:+0200
RDATE:20200329T020000
RDATE:20210328T020000
END:DAYLIGHT
END:VTIMEZONE
BEGIN:VEVENT
UID:37386431-6234-4462-a630-343437346135
DTSTAMP:20260421T090716Z
CATEGORIES:Trescar Travesses en Tren
CLASS:PUBLIC
DESCRIPTION;ALTREP="CID:<FFFF__=0ABBE548DFE235B58f9e8a93d@coffeebean.com>":
 \nDia: Dimarts 8 d’octubre de 2024\nLloc i hora de trobada: Estació Renfe 
 de la Sagrera davant les taquilles a les 6 h.\nTransport:. Transport públi
 c\nInscripcions: Mitjançant grup de WhatsApp de Trescar Travesses amb tren
 .\nDistància: 13 km. Desnivell: +700 m. -760 m. Horari aprox.: 6 h.\nDific
 ultat: Moderada.\nItinerari: Estació Renfe de Ribes\, cremallera fins a Qu
 eralbs\, Queralbs\, font dels Plaus\, font de la Dou\, font de l'home mort
 \, collet de les Barraques (cim d'Estremera)\, Camping Masia de can Foses\
 , estació Renfe de Planoles.\nMaterial: Motxilla\, barret\, roba d’abric p
 rotectora del vent i pluja\, calçat de muntanya\, crema solar\, aigua\, es
 morzar i dinar.\nApunts de la sortida: Ens trobarem ben d'hora per tal d'a
 gafar els primer tren cap a Ribes de Fresser. Arribarem a les 8'30h amb te
 mps per esmorzar a l'estació i prendre el primer cremallera cap a Queralbs
 . A les 10h començarem a caminar. Travassarem de cap a cap Queralbs\, cosa
  que permetrà veure els carrers antics d'aquest nucli\, com ara l'ajuntame
 nt i l'esglèsia romànica. Ja als afores del poble\, començarem a pujar sos
 tingudament per sender cap el torrent dels Plaus i més endevant cap a la f
 ont de l'home mort. En aquest punt prenem el GR 11 en direcció sud per enf
 ilar el collet de les Barraques\, que és el sostre de la sortida\, a menys
  que vulguem pujar 50m més i accedir al pic d'Estremera (1947m). Del coll 
 iniciem la baixada pel mateix GR que ens portarà a Planoles que\, igual qu
 e Queralbs travessarem de unta a punta per anar al capdavall del poble on 
 es troba l'estació i agafar el tren cap a mitja tarda.\nVocal: Xavier Domè
 nech (659 359 698)\nNormativa: És obligatori llegir i acomplir les Normes 
 Generals de les sortides de l’AEC
DTSTART:20191204T190000Z
DTEND:20191204T190000Z
GEO:00;0
LOCATION:
ORGANIZER:
SEQUENCE:1
SUMMARY:Queralbs - Planoles pel Collet de les Barraques
TRANSP:OPAQUE
URL:https://aec.cat/component/icagenda/queralbs-planoles-pel-collet-de-les-
 barraques/2019-12-04-20-00?Itemid=178
END:VEVENT
END:VCALENDAR
