BEGIN:VCALENDAR
VERSION:2.0
PRODID:-//Agrupació Excursionista "Catalunya"//NONSGML kigkonsult.se iCalcreator 2.41.92//
CALSCALE:GREGORIAN
METHOD:PUBLISH
UID:34373464-3435-4363-b162-653136646534
X-WR-CALNAME:iCagenda
X-WR-CALDESC:Event Management Extension for Joomla!
X-WR-RELCALID:3E26604A-50F4-4449-8B3E-E4F4932D05B5
X-WR-TIMEZONE:Europe/Madrid
BEGIN:VTIMEZONE
TZID:Europe/Madrid
TZUNTIL:20251026T010000Z
BEGIN:STANDARD
TZNAME:CET
DTSTART:20231029T030000
TZOFFSETFROM:+0200
TZOFFSETTO:+0100
RDATE:20241027T030000
END:STANDARD
BEGIN:DAYLIGHT
TZNAME:CEST
DTSTART:20230326T020000
TZOFFSETFROM:+0100
TZOFFSETTO:+0200
RDATE:20240331T020000
RDATE:20250330T020000
END:DAYLIGHT
END:VTIMEZONE
BEGIN:VEVENT
UID:32633737-3238-4063-a566-333565633335
DTSTAMP:20260422T180148Z
CATEGORIES:Semprepodem
CLASS:PUBLIC
DESCRIPTION;ALTREP="CID:<FFFF__=0ABBE548DFE235B58f9e8a93d@coffeebean.com>":
 Hora i lloc de trobada: 7 h a l’Agrupa (Padilla/Provença) – 7.15 h a Fabra
  i Puig/Meridiana \nTransport: autocar\; si no s’arriba a un mínim de pers
 ones\, anirem en cotxes particulars aplicant el sistema tarifari de l’AEC.
  \nInscripcions: socis/sòcies 24€\, socis/sòcies online 34€. Data límit d’
 inscripció el dimecres 17 a les vuit del vespre\, mitjançant un missatge a
 l grup de whatsapp de Semprepodem o un correu electrònic a secretaria@aec.
 cat . Cal indicar nom de la sortida\, nom i cognoms de qui hi participi\, 
 confirmació de pagament i lloc de trobada. Cal ingressar l’import correspo
 nent al compte de l’Agrupa: Caixa d’Enginyers ES72 3025 0017 4114 0003 105
 8\, indicant nom\, cognom i “Serra dels Tossals”. \nDesnivell: + 670 m / -
  670 m \nDistància: 10 km aprox. \nHorari aproximat: 5 hores \nDificultat:
  fàcil/moderada \nItinerari: Túnel de la Mina (1205 m)\, Coll de Jouet (12
 83 m)\, Santuari Mare de Déu dels Tossals (1435 m)\, Mal Pas de Runers (14
 37 m)\, els Tossals (Tossal de Tresserra) (1524 m)\, Coll de l’Era (1297 m
 )\, Pujada d’en Matamatxos (1325 m) i Túnel de la Mina (1205 m). \nMateria
 l: motxilla\, barret\, roba d’abric protectora del vent i la pluja\, calça
 t de muntanya\, crema solar\, aigua i menjar per a tot el dia. \nNormativa
 : és obligatori llegir i complir les Normes Generals de les sortides de l’
 AEC\, incloses en aquest Butlletí. \nApunts de l’excursió: la Serra dels T
 ossals és la frontera natural entre l’Alt i el Baix Berguedà. El Santuari 
 de la Mare de Déu dels Tossals està en estat ruïnós\; però és un bon mirad
 or\, sobretot del massís dels Rasos de Peguera i dels altiplans de Capolat
 . Des del Pla de Tresserra tindrem unes vistes molt àmplies del Pirineu ca
 p al nord i\, cap al sud\, del Montseny\, Sant Llorenç i Montserrat. Pujar
 em a un dels tossals\, el de Tresserra\, amb vèrtex geodèsic. Tornarem pel
  vessant nord\, a mitja alçada\, per terreny molt obac passant per una fag
 eda immensa fins el punt de sortida. \nVocal: Mar Cardona i Toni Puigventó
 s\nNormativa: És obligatori llegir les Normes Generals de les sortides de 
 l’AEC. El fet d’apuntar-se a aquesta activitat\, comporta l’acceptació aut
 omàtica de les mateixes. Cadascú és responsable de si mateix\, del que pug
 ui fer\, o del que pugui passar.
DTSTART:20240120T124000Z
DTEND:20240120T124000Z
GEO:00;0
LOCATION:
ORGANIZER:
SEQUENCE:1
SUMMARY:Serra dels Tossals (Berguedà)
TRANSP:OPAQUE
URL:https://aec.cat/component/icagenda/serra-dels-tossals-bergueda?Itemid=1
 78
END:VEVENT
END:VCALENDAR
