BEGIN:VCALENDAR
VERSION:2.0
PRODID:-//Agrupació Excursionista "Catalunya"//NONSGML kigkonsult.se iCalcreator 2.41.92//
CALSCALE:GREGORIAN
METHOD:PUBLISH
UID:65323233-6363-4666-b637-646632336466
X-WR-CALNAME:iCagenda
X-WR-CALDESC:Event Management Extension for Joomla!
X-WR-RELCALID:3E26604A-50F4-4449-8B3E-E4F4932D05B5
X-WR-TIMEZONE:Europe/Madrid
BEGIN:VTIMEZONE
TZID:Europe/Madrid
TZUNTIL:20240331T010000Z
BEGIN:STANDARD
TZNAME:CET
DTSTART:20211031T030000
TZOFFSETFROM:+0200
TZOFFSETTO:+0100
RDATE:20221030T030000
RDATE:20231029T030000
END:STANDARD
BEGIN:DAYLIGHT
TZNAME:CEST
DTSTART:20220327T020000
TZOFFSETFROM:+0100
TZOFFSETTO:+0200
RDATE:20230326T020000
END:DAYLIGHT
END:VTIMEZONE
BEGIN:VEVENT
UID:37623335-3730-4264-b633-656237663361
DTSTAMP:20260421T235149Z
CATEGORIES:Cultura
CLASS:PUBLIC
DESCRIPTION;ALTREP="CID:<FFFF__=0ABBE548DFE235B58f9e8a93d@coffeebean.com>":
 Cal ingressar l’import al compte de l’ Agrupa: Caixa d’Enginyers\, indican
 t nom i cognom i “Badalona” 25€. (el preu inclou visita guiada i entrada a
 l Museu de Badalona\, Casa dels Dofins i dinar al restaurant).  \nLa ciuta
 t de Baetulo va ser fundada pels romans als primers decennis del segle I a
 C.   Al subsol del Museu de Badalona es troben els principals vestigis d’a
 quella època\, juntament amb la Casa dels Dofins\, que va ser una casa ben
 estant romana. Podrem gaudir dels mosaics\, de diverses estances i altres 
 habitacions entre d’altres.  \nDesprès del dinar podrem anar a fer un vol 
 per les platges de Badalona. \nLloc de trobada a la sortida del metro de l
 a Línia 2 (lila) parada final Pompeu i Fabra\, sortida per Avinguda Martí 
 Pujol. (11.00h.)
DTSTART:20220517T180000Z
DTEND:20220517T180000Z
GEO:00;0
LOCATION:Badalona
ORGANIZER:
SEQUENCE:1
SUMMARY:Visita a Badalona\, Ciutat Romana
TRANSP:OPAQUE
URL:https://aec.cat/component/icagenda/visita-a-badalona-ciutat-romana/2022
 -05-17-20-00
END:VEVENT
END:VCALENDAR
