BEGIN:VCALENDAR
VERSION:2.0
PRODID:-//Agrupació Excursionista "Catalunya"//NONSGML kigkonsult.se iCalcreator 2.41.92//
CALSCALE:GREGORIAN
METHOD:PUBLISH
UID:34613837-3738-4762-a362-313666323730
X-WR-CALNAME:iCagenda
X-WR-CALDESC:Event Management Extension for Joomla!
X-WR-RELCALID:3E26604A-50F4-4449-8B3E-E4F4932D05B5
X-WR-TIMEZONE:Europe/Madrid
BEGIN:VTIMEZONE
TZID:Europe/Madrid
TZUNTIL:20240331T010000Z
BEGIN:STANDARD
TZNAME:CET
DTSTART:20211031T030000
TZOFFSETFROM:+0200
TZOFFSETTO:+0100
RDATE:20221030T030000
RDATE:20231029T030000
END:STANDARD
BEGIN:DAYLIGHT
TZNAME:CEST
DTSTART:20220327T020000
TZOFFSETFROM:+0100
TZOFFSETTO:+0200
RDATE:20230326T020000
END:DAYLIGHT
END:VTIMEZONE
BEGIN:VEVENT
UID:30343564-3131-4437-a236-616232616631
DTSTAMP:20260424T201529Z
CATEGORIES:Semprepodem
CLASS:PUBLIC
DESCRIPTION;ALTREP="CID:<FFFF__=0ABBE548DFE235B58f9e8a93d@coffeebean.com>":
 EXCURSİÓ CIRCULAR ARANSA- PERAFITA – MONTURULL - ARANSA\nLloc i hora de tr
 obada:  a les 06.30h a l'Agrupa (Padilla/Provença) – 6.45 h a Fabra i Puig
 /Meridiana. 2.30 h de viatge fins l’estació d’esquí de fons d’Aransa / Ara
 nser.\nTransport i inscripcions: Cotxes particulars. Cal apuntar-se pel gr
 up de Whatsapp.  També dieu qui pot portar cotxe per anar omplint places.
 \nRecorregut: 17 km aprox. Desnivell 1110 m aprox. Horari aprox. De 6.30 a
  7 h. \nDificultat: Moderada/Exigent. Sortida de llarg recorregut i força 
 desnivell degut al tancament de la pista forestal de Cap del Rec a Aransa 
 passant per Les Pullineres. Res que no puguem superar  “Semprepodem”\nItin
 erari:  Estació d’esquí de fons Aransa\, refugi Les Pollineres\, refugi Es
 tanys de La Pera\, Pic de Perafita\, Pic de Monturull\, coll de Monturull\
 , Bassot de Claror\, Estació d’esquí de fons Aransa.\nMaterial: Motxilla\,
  barret\, roba d’abric protectora del vent i pluja\, calçat de muntanya\, 
 crema solar\, força aigua\, esmorzar i dinar . La calor i els raigs UV ser
 an importants per les dates.\nVocal:Pere Mansilla  (601 110 287)\nNormativ
 a: És obligatori llegir les Normes Generals de les sortides de l’A.E.C. pu
 blicades en el Butlletí i la web de l’Agrupació. El fet d’apuntar-se a aqu
 esta sortida\, comporta l’acceptació de les mateixes. En aquesta excursió\
 , i a causa de les característiques de la mateixa\, no es poden portar gos
 sos ni altres animals de companyia.
DTSTART:20220708T220000Z
DTEND:20220708T220000Z
GEO:00;0
LOCATION:
ORGANIZER:
SEQUENCE:1
SUMMARY:Perafita - Monturull
TRANSP:OPAQUE
URL:https://aec.cat/menu-properes-activitats/2022-03-07-09-42-42/2022-07-09
 -00-00
END:VEVENT
END:VCALENDAR
