BEGIN:VCALENDAR
VERSION:2.0
PRODID:-//Agrupació Excursionista "Catalunya"//NONSGML kigkonsult.se iCalcreator 2.41.92//
CALSCALE:GREGORIAN
METHOD:PUBLISH
UID:64663730-3836-4534-b935-386530366164
X-WR-CALNAME:iCagenda
X-WR-CALDESC:Event Management Extension for Joomla!
X-WR-RELCALID:3E26604A-50F4-4449-8B3E-E4F4932D05B5
X-WR-TIMEZONE:Europe/Madrid
BEGIN:VTIMEZONE
TZID:Europe/Madrid
TZUNTIL:20261025T010000Z
BEGIN:STANDARD
TZNAME:CET
DTSTART:20241027T030000
TZOFFSETFROM:+0200
TZOFFSETTO:+0100
RDATE:20251026T030000
END:STANDARD
BEGIN:DAYLIGHT
TZNAME:CEST
DTSTART:20240331T020000
TZOFFSETFROM:+0100
TZOFFSETTO:+0200
RDATE:20250330T020000
RDATE:20260329T020000
END:DAYLIGHT
END:VTIMEZONE
BEGIN:VEVENT
UID:33646438-3161-4463-a335-623863386339
DTSTAMP:20260423T131801Z
CATEGORIES:SEM
CLASS:PUBLIC
DESCRIPTION;ALTREP="CID:<FFFF__=0ABBE548DFE235B58f9e8a93d@coffeebean.com>":
 Vocal: Rafa Alacuart\nCom cada any\, realitzarem una estada als Alps per S
 etmana Santa! \nSecció ‘SEM Vintage’: Per aquells que us inicieu o porteu 
 una colla d’esquiades a les cames\, en les sortides més tècniques s’intent
 arà proposar una sortida alternativa.\nA l’Agrupa hi ha equips de segureta
 t de lloguer (Arva-pala-sonda) per 15 € la jornada\, amb una fiança de 30 
 €\, obligatoris per assistir a les sortides organitzades. \nDes de la voca
 lia us podem assessorar en realitzar cursos d’iniciació o cursos especiali
 tzats de seguretat. \nSalut i neu! \nLa vocalia \nsem@aec.cat 
DTSTART:20250222T181300Z
DTEND:20250223T091300Z
GEO:00;0
LOCATION:
ORGANIZER:
SEQUENCE:1
SUMMARY:Andorra (Ransol)
TRANSP:OPAQUE
URL:https://aec.cat/menu-properes-activitats/2024-12-16-09-57-09
END:VEVENT
END:VCALENDAR
