BEGIN:VCALENDAR
VERSION:2.0
PRODID:-//Agrupació Excursionista "Catalunya"//NONSGML kigkonsult.se iCalcreator 2.41.92//
CALSCALE:GREGORIAN
METHOD:PUBLISH
UID:34346262-3735-4863-a634-643837366134
X-WR-CALNAME:iCagenda
X-WR-CALDESC:Event Management Extension for Joomla!
X-WR-RELCALID:3E26604A-50F4-4449-8B3E-E4F4932D05B5
X-WR-TIMEZONE:Europe/Madrid
BEGIN:VTIMEZONE
TZID:Europe/Madrid
TZUNTIL:20261025T010000Z
BEGIN:STANDARD
TZNAME:CET
DTSTART:20241027T030000
TZOFFSETFROM:+0200
TZOFFSETTO:+0100
RDATE:20251026T030000
END:STANDARD
BEGIN:DAYLIGHT
TZNAME:CEST
DTSTART:20240331T020000
TZOFFSETFROM:+0100
TZOFFSETTO:+0200
RDATE:20250330T020000
RDATE:20260329T020000
END:DAYLIGHT
END:VTIMEZONE
BEGIN:VEVENT
UID:61646136-3732-4535-b061-636237383164
DTSTAMP:20260424T164728Z
CATEGORIES:AEC
CLASS:PUBLIC
DESCRIPTION;ALTREP="CID:<FFFF__=0ABBE548DFE235B58f9e8a93d@coffeebean.com>":
 \n\nProjecció del vídeo “2024 – Annapurna 50 anys” en què va participar el
  nostre soci Toni Villena\, que assistirà a la projecció juntament amb Xav
 ier Perez\, membre també de l'expedició.\nLa projecció es realitzarà el di
 a 16 de gener de 2025 a les 20:00 hores\, al nostre local social del carre
 r Padilla.\nCoincideix amb el tercer dijous de mes\, per la qual cosa els 
 que ho desitgin podran quedar-se al sopar de bocata.
DTSTART:20250116T085300Z
DTEND:20250116T085300Z
GEO:00;0
LOCATION:
ORGANIZER:
SEQUENCE:1
SUMMARY:2024 - Annapurna 50 anys
TRANSP:OPAQUE
URL:https://aec.cat/menu-properes-activitats/2024-annapurna-50-anys
END:VEVENT
END:VCALENDAR
