BEGIN:VCALENDAR
VERSION:2.0
PRODID:-//Agrupació Excursionista "Catalunya"//NONSGML kigkonsult.se iCalcreator 2.41.92//
CALSCALE:GREGORIAN
METHOD:PUBLISH
UID:65623033-3965-4263-a565-623337333863
X-WR-CALNAME:iCagenda
X-WR-CALDESC:Event Management Extension for Joomla!
X-WR-RELCALID:3E26604A-50F4-4449-8B3E-E4F4932D05B5
X-WR-TIMEZONE:Europe/Madrid
BEGIN:VTIMEZONE
TZID:Europe/Madrid
TZUNTIL:20241027T010000Z
BEGIN:STANDARD
TZNAME:CET
DTSTART:20221030T030000
TZOFFSETFROM:+0200
TZOFFSETTO:+0100
RDATE:20231029T030000
END:STANDARD
BEGIN:DAYLIGHT
TZNAME:CEST
DTSTART:20220327T020000
TZOFFSETFROM:+0100
TZOFFSETTO:+0200
RDATE:20230326T020000
RDATE:20240331T020000
END:DAYLIGHT
END:VTIMEZONE
BEGIN:VEVENT
UID:35353738-3962-4461-b437-663831353266
DTSTAMP:20260421T082646Z
CATEGORIES:Semprepodem
CLASS:PUBLIC
DESCRIPTION;ALTREP="CID:<FFFF__=0ABBE548DFE235B58f9e8a93d@coffeebean.com>":
 Hora i lloc de trobada: 7.00 h a l’Agrupa (Padilla/Provença) – 7.15 h a Pa
 lau Reial (Diagonal)\nTransport: Autocar\; si no s’arriba a un mínim de pe
 rsones\, anirem en cotxes particulars.\nInscripcions Import: 22 euros soci
 s/es\, 32 euros socis/es on-line. Fins dimecres 14 de desembre a les 19h\,
  mitjançant grup de WhatsApp de SEMPREPODEM o per correu electrònic a secr
 etaria@aec.cat. En qualsevol dels dos casos cal indicar: nom de la sortida
 \, nom i cognoms del participant\, confirmació de pagament\, lloc de pujad
 a de l’autocar. Cal ingressar l’import al compte de l’Agrupa: Caixa d’Engi
 nyers (ES72 3025 0017 4114 0003 1058) Indicant el nom “Colldejou”.  \nDesn
 ivell: + 700 m\nDistància: 17 km\nHorari aproximat: 6 hores\nDificultat: M
 oderada\nItinerari: Colldejou-Coll del Guix- Font de l’Avellar- Mas d’en C
 osme – Carretera de Marçà a La Torre de Fontaubella – Moli paperer Mas Mag
 rinyà- vall de Maçanes-Colldejou. (Veure nota)\nMaterial: motxilla\, barre
 t\, roba d’abric protectora del vent i la pluja\, calçat de muntanya\, cre
 ma solar\, aigua i menjar per a tot el dia.\nVocal: Miquel Insausti\nNorma
 tiva: És obligatori llegir les Normes Generals de les sortides de l’A.E.C.
  publicades en el Butlletí. El fet d’apuntar-se a aquesta sortida\, compor
 ta l’acceptació de les mateixes. Pel transport\, cal portar mascareta. En 
 aquesta excursió\, i a causa de les característiques de la mateixa\, no es
  poden portar gossos ni altres animals de companyia.\nApunts de la sortida
 : Boniques vistes al Montsant\, vinyes de Falset i Mola de Colldejou.\nNot
 a: Atès que aquest mateix dia 17 de desembre tenim el sopar de Nadal\, per
  tal de poder arribar d’hora a Barcelona\, s’ha canviat l’itinerari inicia
 l de les Crestes de la Seda per aquest altre que s’adapta més a la disponi
 bilitat del temps que tindrem. Encara i tot\, intentarem anar per feina pe
 r tot el recorregut. En cas de que no ho veiéssim factible\, sobre la marx
 a\, escurçaríem el recorregut i acabaríem a Marçà.
DTSTART:20221217T095600Z
DTEND:20221217T095600Z
GEO:00;0
LOCATION:
ORGANIZER:
SEQUENCE:1
SUMMARY:Colldejou -Marça – Colldejou ( sota la Mola de Colldejou)
TRANSP:OPAQUE
URL:https://aec.cat/menu-properes-activitats/colldejou-marca---colldejou-so
 ta-la-mola-de-colldejou/2022-12-17-10-56
END:VEVENT
END:VCALENDAR
