BEGIN:VCALENDAR
VERSION:2.0
PRODID:-//Agrupació Excursionista "Catalunya"//NONSGML kigkonsult.se iCalcreator 2.41.92//
CALSCALE:GREGORIAN
METHOD:PUBLISH
UID:66386333-3565-4862-a531-626439316535
X-WR-CALNAME:iCagenda
X-WR-CALDESC:Event Management Extension for Joomla!
X-WR-RELCALID:3E26604A-50F4-4449-8B3E-E4F4932D05B5
X-WR-TIMEZONE:Europe/Madrid
BEGIN:VTIMEZONE
TZID:Europe/Madrid
TZUNTIL:20241027T010000Z
BEGIN:STANDARD
TZNAME:CET
DTSTART:20221030T030000
TZOFFSETFROM:+0200
TZOFFSETTO:+0100
RDATE:20231029T030000
END:STANDARD
BEGIN:DAYLIGHT
TZNAME:CEST
DTSTART:20220327T020000
TZOFFSETFROM:+0100
TZOFFSETTO:+0200
RDATE:20230326T020000
RDATE:20240331T020000
END:DAYLIGHT
END:VTIMEZONE
BEGIN:VEVENT
UID:38633761-3661-4932-b162-343730333435
DTSTAMP:20260420T132259Z
CATEGORIES:Trescar Travesses en Tren
CLASS:PUBLIC
DESCRIPTION;ALTREP="CID:<FFFF__=0ABBE548DFE235B58f9e8a93d@coffeebean.com>":
 Lloc i hora de trobada: Estació de la Sagrera de la Renfe davant de les ta
 quilles a les 8h\nTransport: Transport públic\nInscripcions: Mitjançant gr
 up de WhatsApp de Trescar Travesses amb tren.\nDistància: 14 km. Desnivell
 : 500 m. Horari aprox. 5 h. \nDificultat: Moderada\nItinerari:  Estació Re
 nfe de Figaró\, Riera de Vallcàrquera\, Font de la Noguera Punxeguda\, cas
 tanyer del Ciment\, Sant Pere de Vallcàrquera\, Font del Castanyer\, alzin
 a de Can Valls\, Sant Cristòfol de Monteugues\, font de la Teula\, estació
  de la Renfe de La Garriga.\nMaterial: Motxilla\, barret\, roba d’abric pr
 otectora del vent i pluja\, calçat de muntanya\, crema solar\, aigua\, esm
 orzar i dinar .  \nVocal: Xavier Domènech   (Tel: 659359698) \nNormativa: 
 És obligatori llegir les Normes Generals de les sortides de l’A.E.C. publi
 cades en el butlletí. El fet d’apuntar-se a aquesta sortida\, comporta l’a
 cceptació de les mateixes. Pel transport\, cal portar mascareta. En aquest
 a excursió\, i a causa de les característiques de la mateixa\, no es poden
  portar gossos ni altres animals de companyia. \nApunts de la sortida: De 
 camí cap a Canet\, anirem de Figaró cap a La Garriga. La ruta proposada re
 ssegueix el PR C33\, que només deixarem per desviar-nos amb l'objectiu de 
 passar per la masia de can Valls i admirar la gran alzina\, la més gran de
 l Parc del Montseny\, d'uns 300 anys i catalogada com arbre monumental. Aq
 uesta alzina està situada el sostre de la ruta (768 m)\, en una zona de bo
 nes vistes dels cingles del Bertí\, el Tagamanent\, La Garriga....Baixarem
  cap a l'ermita romànica de Sant Cristòfol de Monteugues (s XI)\, on recup
 erarem el PR que ens conduirà fins a La Garriga\, passant per la font de l
 a Teula.
DTSTART:20221213T094400Z
DTEND:20221213T094400Z
GEO:00;0
LOCATION:
ORGANIZER:
SEQUENCE:1
SUMMARY:De Figaró a La Garriga per l'alzina de can Valls i Sant Cristòfol d
 e Monteugues
TRANSP:OPAQUE
URL:https://aec.cat/menu-properes-activitats/de-figaro-a-la-garriga-per-lal
 zina-de-can-valls-i-sant-cristofol-de-monteugues/2022-12-13-10-44
END:VEVENT
END:VCALENDAR
