BEGIN:VCALENDAR
VERSION:2.0
PRODID:-//Agrupació Excursionista "Catalunya"//NONSGML kigkonsult.se iCalcreator 2.41.92//
CALSCALE:GREGORIAN
METHOD:PUBLISH
UID:33613566-6264-4561-a135-323731653762
X-WR-CALNAME:iCagenda
X-WR-CALDESC:Event Management Extension for Joomla!
X-WR-RELCALID:3E26604A-50F4-4449-8B3E-E4F4932D05B5
X-WR-TIMEZONE:Europe/Madrid
BEGIN:VTIMEZONE
TZID:Europe/Madrid
TZUNTIL:20251026T010000Z
BEGIN:STANDARD
TZNAME:CET
DTSTART:20231029T030000
TZOFFSETFROM:+0200
TZOFFSETTO:+0100
RDATE:20241027T030000
END:STANDARD
BEGIN:DAYLIGHT
TZNAME:CEST
DTSTART:20230326T020000
TZOFFSETFROM:+0100
TZOFFSETTO:+0200
RDATE:20240331T020000
RDATE:20250330T020000
END:DAYLIGHT
END:VTIMEZONE
BEGIN:VEVENT
UID:34616235-3031-4036-a435-323935303765
DTSTAMP:20260422T174508Z
CATEGORIES:Senderisme
CLASS:PUBLIC
DESCRIPTION;ALTREP="CID:<FFFF__=0ABBE548DFE235B58f9e8a93d@coffeebean.com>":
 El proper dia 11 de desembre es celebra a tot el món\, el DIA DE LA MUNTAN
 YA. Amb aquest motiu talment com l’any passat\, l’Agrupació Excursionista 
 “Catalunya” i Decathlon Ciutat Vella farem una acció solidària consistent 
 en la neteja d’uns camins del sector de Collserola\, però donat que el des
 embre hi ha problemes de calendari i l’11 no és festiu\, aquesta acció la 
 farem el dissabte 2 de desembre \nHi haurà quatre itineraris accessibles a
 mb transport públic des de Barcelona. Són itineraris senzills i aptes per 
 a tothom. L’hora de trobada als punts d’inici de cada ruta és a les 9\,00\
 , i totes elles finalitzaran a les 12\,30. A cada voluntari se li lliurarà
  uns guants i una bossa per deixalles.  \nRuta 1 – FGC Baixador de Vallvid
 rera\, Vila Joana\, Can Tisora\, Font d’en Canet\, Turó de Bellpuig\, Coll
  Serola (Vista Rica)\, +300 i 5 km. Aprox. \nRuta 2 – Metro Mundet\, Caste
 ll Fortí\, Turó Valldaura\, Turó Magarola\, Turó de Sant Cebrià\, Coll Ser
 ola (Vista Rica). +390 i 5 km. aprox \nRuta 3 – Metro Valldaura\, Cementir
 i d’Horta\, Muntanya del Notari\, Forat del Vent\, Portell de Valldaura\, 
 Turó Valldaura\, Coll Serola (Vista Rica). 360m i 5 km. aprox \nRuta 4 – M
 etro Balmes (Plaça Kennedy)\, Font del Recó\, Caseta de les Aigües\, Obser
 vatori Fabra\, Tibidabo\, Coll Vinassa\, Coll Serola (Vista Rica). +400 i 
 5 km. aprox \nA Vista Rica\, uns vehicles de l’organització recolliran les
  bosses de les deixalles. \nL’itinerari comú de retorn serà des de Coll Se
 rola\, per la Font de Can Borni\, Font del Bacallà\, Metro Vall d’Hebron. 
 \nInscripcions a Secretaria (Tel: 933 02 45 29 WhatsApp: 608 42 92 30)\, i
 ndicant l’itinerari escollit. Per a més informació podeu contactar amb la 
 vocalia de Muntanya: Jordi Secall (T/ 626 516 662) \nVINGA\, QUE ENTRE TOT
 S CONTINUAREM FENT POSSIBLE UNES MUNTANYES MÉS NETES !! \nAltres informaci
 ó: per WhatsApp\, (Senderisme – AEC) \nNormativa: És obligatori llegir les
  Normes Generals de les sortides de l’AEC.
DTSTART:20231202T124000Z
DTEND:20231202T124000Z
GEO:00;0
LOCATION:
ORGANIZER:
SEQUENCE:1
SUMMARY:Dia de la Muntanya - Acció sostenible a Collserola
TRANSP:OPAQUE
URL:https://aec.cat/menu-properes-activitats/dia-de-la-muntanya-neteja-de-c
 amins-a-collserola/2023-12-02-13-40
END:VEVENT
END:VCALENDAR
