BEGIN:VCALENDAR
VERSION:2.0
PRODID:-//Agrupació Excursionista "Catalunya"//NONSGML kigkonsult.se iCalcreator 2.41.92//
CALSCALE:GREGORIAN
METHOD:PUBLISH
UID:32386134-3062-4563-a634-393763383239
X-WR-CALNAME:iCagenda
X-WR-CALDESC:Event Management Extension for Joomla!
X-WR-RELCALID:3E26604A-50F4-4449-8B3E-E4F4932D05B5
X-WR-TIMEZONE:Europe/Madrid
BEGIN:VTIMEZONE
TZID:Europe/Madrid
TZUNTIL:20251026T010000Z
BEGIN:STANDARD
TZNAME:CET
DTSTART:20231029T030000
TZOFFSETFROM:+0200
TZOFFSETTO:+0100
RDATE:20241027T030000
END:STANDARD
BEGIN:DAYLIGHT
TZNAME:CEST
DTSTART:20230326T020000
TZOFFSETFROM:+0100
TZOFFSETTO:+0200
RDATE:20240331T020000
RDATE:20250330T020000
END:DAYLIGHT
END:VTIMEZONE
BEGIN:VEVENT
UID:30386534-3931-4132-b235-666161323861
DTSTAMP:20260422T192014Z
CATEGORIES:Semprepodem
CLASS:PUBLIC
DESCRIPTION;ALTREP="CID:<FFFF__=0ABBE548DFE235B58f9e8a93d@coffeebean.com>":
 Transport i inscripcions: Cotxes particulars\, amb sistema tarifari aplica
 t a l'AEC. Cal apuntar-se pel grup de WhatsApp de Semprepodem. També digue
 u qui pot portar cotxe per anar omplint places.\nHora i lloc de trobada: 7
 .00 h a l’Agrupa (Padilla/Provença) – 07.15 a Fabra i Puig.\nDistància: 13
  Kms. Desnivell aproximat. 450 m. Horari aproximat:  5'30 hores \nDificult
 at:  Fàcil - Moderada. Només corriols aspres i pendents curts i variats. 
 \nItinerari: Sortida de la AP/ a Hostalric\, sortint de l’antic peatge\, c
 arretera GI 555 fins la glorieta de Les Mallorquines (14 Kms)\, on cal tom
 bar a la dreta per la C-63\, arribant a Riudarenes (3 Km)\, tombar a l'esq
 uerra fins un establiment hoteler\, serà el punt de trobada\, allà prendre
 m carretera asfaltada fins el llogarret de L'Esparra (7 Km)\, continuem pe
 r una pista de bon fer fins un espai d'aparcament (2 '5 Km)\, a prop del l
 loc de Morgadella\, alçada 305 m.. Caminarem un xic per la pista fins un p
 etit coll on iniciem per un estret corriol l'ascens a l'ermita de la M.D. 
 de L'Arguimon (477m.)\, vistes panoràmiques\, després de 45 minuts de tres
 c. Baixada al collet de Les Bruixes on encetarem la pujada al cim del Far 
 (587 m.) i per l'espès bosc del Far anirem al Turó de Sant Pere Vell (506 
 m.) i a tocar de Can Gorgalls Vell travessarem el sot de La Pedrosa (390 m
 .) i per bona pista\, fins a Sant Pere Cercada (420 m.) portarem 3'30 hore
 s de camí. El retorn serà per la Font de l'Avellaner i després una bona pi
 sta fins als vehicles on arribarem en 1 hora i 45 minuts aproximadament.\n
 Material: Motxilla\, barret\, roba d'abric protectora del vent i la pluja\
 , calçat de muntanya\, crema solar\, aigua\, esmorzar i dinar.\nVocal: Llo
 renç Nasarre (693 848 104)\nApunts de l'excursió: L'Ermita de l'Arguimon i
  l'antic cenobi de Sant Pere Cercada\, les vistes panoràmiques del princip
 i de Les Guilleries\, l'ample panorama de la comarca de La Selva\, la sole
 dat de l'entorn i un territori poc conegut llevat dels habitants de la zon
 a a l'entorn de Santa Coloma de Farnés.\nNormativa: És obligatori llegir\,
  acceptar i complir les Normes Generals de les sortides de l’AEC.
DTSTART:20231216T124000Z
DTEND:20231216T124000Z
GEO:00;0
LOCATION:
ORGANIZER:
SEQUENCE:1
SUMMARY:L'Arguimon - El Far - Sant Pere Cercada
TRANSP:OPAQUE
URL:https://aec.cat/menu-properes-activitats/larguimon-el-far-sant-pere-cer
 cada/2023-12-16-13-40
END:VEVENT
END:VCALENDAR
