BEGIN:VCALENDAR
VERSION:2.0
PRODID:-//Agrupació Excursionista "Catalunya"//NONSGML kigkonsult.se iCalcreator 2.41.92//
CALSCALE:GREGORIAN
METHOD:PUBLISH
UID:36376234-3536-4766-b165-376361623562
X-WR-CALNAME:iCagenda
X-WR-CALDESC:Event Management Extension for Joomla!
X-WR-RELCALID:3E26604A-50F4-4449-8B3E-E4F4932D05B5
X-WR-TIMEZONE:Europe/Madrid
BEGIN:VTIMEZONE
TZID:Europe/Madrid
TZUNTIL:20241027T010000Z
BEGIN:STANDARD
TZNAME:CET
DTSTART:20221030T030000
TZOFFSETFROM:+0200
TZOFFSETTO:+0100
RDATE:20231029T030000
END:STANDARD
BEGIN:DAYLIGHT
TZNAME:CEST
DTSTART:20220327T020000
TZOFFSETFROM:+0100
TZOFFSETTO:+0200
RDATE:20230326T020000
RDATE:20240331T020000
END:DAYLIGHT
END:VTIMEZONE
BEGIN:VEVENT
UID:34353034-3263-4364-a264-623661373161
DTSTAMP:20260422T123820Z
CATEGORIES:Senderisme
CLASS:PUBLIC
DESCRIPTION;ALTREP="CID:<FFFF__=0ABBE548DFE235B58f9e8a93d@coffeebean.com>":
 Lloc de trobada: 08.00 h a l’Agrupa 08.15 h Fabra i Puig/Meridiana.\nTrans
 port: Autocar. Si no s’arriba a un mínim de persones anirem en cotxes part
 iculars.\nInscripcions Sòcies/s: 23 euros . Sòcies/s online: 33 euros. Ins
 cripcions fins dimecres 8 de març a les 19 h\, mitjançant WhatsApp al grup
  de Senderisme o per mail a secretaria@aec.cat\, indicant nom de la sortid
 a\, nom i cognoms\, confirmació de pagament i lloc de pujada a l’autocar. 
 Cal ingressar l’import al compte de l’AEC: ES72 3025 0017 4114 0003 1058\,
  indicant nom i “Riu Ripoll”.\nRecorregut: 10 km. Desnivell: aprox 280 m. 
 Horari: Unes 4 hores\nDificultat: Fàcil.\nItinerari: Pont de les Conques (
 Sant Llorenç de Savall) – Font i Torrent de Cal Llogarri – Coll de Traens 
 – Sant Feliu de Vallcàrquera – Torrent Bò – Les Oliveretes – Pont de les C
 onques.\nMaterial: Motxilla\, barret\, roba d’abric protectora del vent i 
 pluja\, calçat de muntanya\, crema solar\, aigua\, esmorzar i dinar.  (Esm
 orzar al Viena de Castellar del Vallès\, dinar de carmanyola a l’Àrea d’Es
 plai de les Arenes)\nVocal: Jordi Secall\nAltra informació: per WhatsApp\,
   (Senderisme - AEC)\nNormativa: : Es obligatori llegir les Normes General
 s de les sortides de l’AEC\; el fet d’apuntar-se a aquesta activitat\, com
 porta l’acceptació automàtica de les mateixes. Recordem que els inscrits i
  les inscrites han de tenir el carnet federatiu de la FEEC en vigor\, si n
 o\, és obligatori contractar una assegurança per a la sortida. Cadascú és 
 responsable de si mateix\, del que pugui fer\, o del que pugui passar. En 
 aquesta excursió\, i a causa de les característiques de la mateixa\, no es
  poden portar gossos ni altres animals de companyia.\nApunts de l’excursió
 : Bonica caminada per la capçalera del Riu Ripoll\, i amb bones vistes\, e
 specialment de Montserrat i el Massís de Sant Llorenç del Munt. Recorrerem
  diferents camins i corriols fins a l’Ermita de Sant Feliu de Vallcàrquera
 \, romànica del segle XI. I després en baixada\, fins al punt de sortida. 
 El Riu Ripoll neix en aquestes contrades\, i desemboca al Besòs\, a Montca
 da i Reixac\, després de 39 km de recorregut.
DTSTART:20230311T092300Z
DTEND:20230311T092300Z
GEO:00;0
LOCATION:
ORGANIZER:
SEQUENCE:1
SUMMARY:Naixement del riu Ripoll
TRANSP:OPAQUE
URL:https://aec.cat/menu-properes-activitats/naixement-del-riu-ripoll/2023-
 03-11-10-23
END:VEVENT
END:VCALENDAR
