BEGIN:VCALENDAR
VERSION:2.0
PRODID:-//Agrupació Excursionista "Catalunya"//NONSGML kigkonsult.se iCalcreator 2.41.92//
CALSCALE:GREGORIAN
METHOD:PUBLISH
UID:31336664-3732-4434-b861-393237366134
X-WR-CALNAME:iCagenda
X-WR-CALDESC:Event Management Extension for Joomla!
X-WR-RELCALID:3E26604A-50F4-4449-8B3E-E4F4932D05B5
X-WR-TIMEZONE:Europe/Madrid
BEGIN:VTIMEZONE
TZID:Europe/Madrid
TZUNTIL:20250330T010000Z
BEGIN:STANDARD
TZNAME:CET
DTSTART:20221030T030000
TZOFFSETFROM:+0200
TZOFFSETTO:+0100
RDATE:20231029T030000
RDATE:20241027T030000
END:STANDARD
BEGIN:DAYLIGHT
TZNAME:CEST
DTSTART:20230326T020000
TZOFFSETFROM:+0100
TZOFFSETTO:+0200
RDATE:20240331T020000
END:DAYLIGHT
END:VTIMEZONE
BEGIN:VEVENT
UID:38346564-3866-4035-b032-666433383466
DTSTAMP:20260420T100935Z
CATEGORIES:Dimecres al Sol
CLASS:PUBLIC
DESCRIPTION;ALTREP="CID:<FFFF__=0ABBE548DFE235B58f9e8a93d@coffeebean.com>":
 Lloc i hora de trobada: A les 7.30 h. a l’Agrupa (Padilla/Provença) a les 
 7.45 a Fabra i Puig\nTransport: Cotxes particulars. 2.15 h de viatge dins 
 al punt de començament del recorregut.\nInscripcions: Mitjançant grup de W
 hatsApp de Dimecres al Sol\, indicant lloc de sortida i disponibilitat de 
 cotxe.\nDistància: 7\,5km. Desnivell: 475 m. aprox.  .Horari aprox. 4\,5 h
 ores\, xino xano.\nDificultat: Fàcil.\nItinerari:  Aparcament Estivella\, 
 Estació d’esquí Port del Comte – Pedró dels Quatre Batlles (2386 m) – Apar
 cament Estivella (Possible itinerari circular a la part alta de l’excursió
 )\nMaterial: Motxilla\, barret\, roba d’abric protectora del vent i pluja\
 , calçat de muntanya\, crema solar\, aigua.\nÀpats: Esmorzar al Restaurant
  Cap del Pla a les 9.15 aprox. Dinar a la zona de pícnic de la Creu de Cod
 ó. Cal portar el dinar fet\, o per fer a la barbacoa (en ús i autoritzada)
  Caldrà pagar uns 2 euros per persona\, per l’ús de la barbacoa i les taul
 es. El carbó el portarà en Pere.\nVocal: Pere Mansilla 601 110 287\nNormat
 iva: És obligat llegir i acomplir les Normes Generals de les sortides de l
 ’AEC.
DTSTART:20230927T114500Z
DTEND:20230927T114500Z
GEO:00;0
LOCATION:
ORGANIZER:
SEQUENCE:1
SUMMARY:Pedró Dels Quatre Batlles (Sostre comarcal del Solsonès)
TRANSP:OPAQUE
URL:https://aec.cat/menu-properes-activitats/pedro-dels-quatre-batlles-sost
 re-comarcal-del-solsones/2023-09-27-13-45
END:VEVENT
END:VCALENDAR
