BEGIN:VCALENDAR
VERSION:2.0
PRODID:-//Agrupació Excursionista "Catalunya"//NONSGML kigkonsult.se iCalcreator 2.41.92//
CALSCALE:GREGORIAN
METHOD:PUBLISH
UID:34366137-3662-4662-a431-353134636232
X-WR-CALNAME:iCagenda
X-WR-CALDESC:Event Management Extension for Joomla!
X-WR-RELCALID:3E26604A-50F4-4449-8B3E-E4F4932D05B5
X-WR-TIMEZONE:Europe/Madrid
BEGIN:VTIMEZONE
TZID:Europe/Madrid
TZUNTIL:20261025T010000Z
BEGIN:STANDARD
TZNAME:CET
DTSTART:20241027T030000
TZOFFSETFROM:+0200
TZOFFSETTO:+0100
RDATE:20251026T030000
END:STANDARD
BEGIN:DAYLIGHT
TZNAME:CEST
DTSTART:20240331T020000
TZOFFSETFROM:+0100
TZOFFSETTO:+0200
RDATE:20250330T020000
RDATE:20260329T020000
END:DAYLIGHT
END:VTIMEZONE
BEGIN:VEVENT
UID:66373764-3964-4163-b031-623138623534
DTSTAMP:20260422T234308Z
CATEGORIES:Trescar Travesses en Tren
CLASS:PUBLIC
DESCRIPTION;ALTREP="CID:<FFFF__=0ABBE548DFE235B58f9e8a93d@coffeebean.com>":
 \nNota: En aquesta data estava prevista la Travessa al Tagamanent\, però p
 er motius organitzatius\, es permuta aquesta sortida per la que estava pre
 vista al desembre. Preguem disculpeu les molèsties.\nLloc i hora de trobad
 a: Estació dels FCG de Plaça Espanya davant les taquilles a les 07.00 hore
 s\nTransport: Transport públic.\nInscripcions: Mitjançant grup de WhatsApp
  de Trescar Travesses amb tren.\nDistància: 15 km. Desnivell  450 m. Horar
 i aprox. 6 h.\nDificultat: Moderada.\nItinerari: Estació FGC de la Pobla\,
  la Pobla Vella\, Castell de Claramunt\, Pujol de la Guàrdia\, Mare de Déu
  de Collbàs\, Santa Margarida de Montbui\, font Trobada\, Estació FGC d’Ig
 ualada.\nMaterial: Motxilla\, barret\, roba d’abric protectora del vent i 
 pluja\, calçat de muntanya\, crema solar\, aigua. Cal portar esmorzar i di
 nar.\nApunts de la sortida:  Travessa entre la Pobla de Claramunt i Iguala
 da. Iniciarem la caminada a l’estació dels FGC de la Pobla i ens dirigirem
  cap el nucli antic (la Pobla Vella). En pujada forta arribarem al Castell
  de Claramunt del segle X\, amb posteriors modificacions. El Castell ens s
 ituarà al capdamunt de la Serra de la Guàrdia que resseguirem\, passant pe
 l Pujol de la Guàrdia\, gaudint de vistes cap a la conca d’Òdena. Arribats
  al coll de la Llentilla\, seguirem per la serra de Collbàs i ens desviare
 m per visitar el Santuari de Collbàs del segle XIII\, tot i que l’actual e
 structura és del 1793. Seguirem ruta cap al nucli antic de Santa Margarida
  de Montbui i finalment arribarem a Igualada\, passejarem una mica pel cen
 tre del nucli\, i acabarem la caminada a l’estació dels FGC.\nVocal: Xavi 
 Domènec\nNormativa: És obligatori llegir i acomplir les Normes Generals de
  les sortides de l’AEC
DTSTART:20241111T234000Z
DTEND:20241111T234000Z
GEO:00;0
LOCATION:
ORGANIZER:
SEQUENCE:1
SUMMARY:Pobla de Claramunt – Igualada (Anoia) per la Serra de la Guàrdia
TRANSP:OPAQUE
URL:https://aec.cat/menu-properes-activitats/pobla-de-claramunt-igualada-an
 oia/2024-11-12-00-40
END:VEVENT
END:VCALENDAR
