BEGIN:VCALENDAR
VERSION:2.0
PRODID:-//Agrupació Excursionista "Catalunya"//NONSGML kigkonsult.se iCalcreator 2.41.92//
CALSCALE:GREGORIAN
METHOD:PUBLISH
UID:30663437-3134-4632-b733-646163663337
X-WR-CALNAME:iCagenda
X-WR-CALDESC:Event Management Extension for Joomla!
X-WR-RELCALID:3E26604A-50F4-4449-8B3E-E4F4932D05B5
X-WR-TIMEZONE:Europe/Madrid
BEGIN:VTIMEZONE
TZID:Europe/Madrid
TZUNTIL:20261025T010000Z
BEGIN:STANDARD
TZNAME:CET
DTSTART:20241027T030000
TZOFFSETFROM:+0200
TZOFFSETTO:+0100
RDATE:20251026T030000
END:STANDARD
BEGIN:DAYLIGHT
TZNAME:CEST
DTSTART:20240331T020000
TZOFFSETFROM:+0100
TZOFFSETTO:+0200
RDATE:20250330T020000
RDATE:20260329T020000
END:DAYLIGHT
END:VTIMEZONE
BEGIN:VEVENT
UID:35333665-3835-4438-a434-613263663665
DTSTAMP:20260423T140730Z
CATEGORIES:Trescar Travesses en Tren
CLASS:PUBLIC
DESCRIPTION;ALTREP="CID:<FFFF__=0ABBE548DFE235B58f9e8a93d@coffeebean.com>":
 \nVocal: Albert López\nNormativa: És obligatori llegir i acomplir les Norm
 es Generals de les sortides de l’AEC
DTSTART:20250310T234000Z
DTEND:20250310T234000Z
GEO:00;0
LOCATION:
ORGANIZER:
SEQUENCE:1
SUMMARY:Serra de la Balmeta – Barbes del Boc – Portbou (Alt Empordà)
TRANSP:OPAQUE
URL:https://aec.cat/menu-properes-activitats/serra-de-la-balmeta---barbes-d
 el-boc---portbou-alt-emporda
END:VEVENT
END:VCALENDAR
