BEGIN:VCALENDAR
VERSION:2.0
PRODID:-//Agrupació Excursionista "Catalunya"//NONSGML kigkonsult.se iCalcreator 2.41.92//
CALSCALE:GREGORIAN
METHOD:PUBLISH
UID:31396364-3039-4535-a631-623638326632
X-WR-CALNAME:iCagenda
X-WR-CALDESC:Event Management Extension for Joomla!
X-WR-RELCALID:3E26604A-50F4-4449-8B3E-E4F4932D05B5
X-WR-TIMEZONE:Europe/Madrid
BEGIN:VTIMEZONE
TZID:Europe/Madrid
TZUNTIL:20220327T010000Z
BEGIN:STANDARD
TZNAME:CET
DTSTART:20191027T030000
TZOFFSETFROM:+0200
TZOFFSETTO:+0100
RDATE:20201025T030000
RDATE:20211031T030000
END:STANDARD
BEGIN:DAYLIGHT
TZNAME:CEST
DTSTART:20200329T020000
TZOFFSETFROM:+0100
TZOFFSETTO:+0200
RDATE:20210328T020000
END:DAYLIGHT
END:VTIMEZONE
BEGIN:VEVENT
UID:32356230-3662-4864-b664-653166333532
DTSTAMP:20260423T015832Z
CATEGORIES:Trescar Travesses en Tren
CLASS:PUBLIC
DESCRIPTION;ALTREP="CID:<FFFF__=0ABBE548DFE235B58f9e8a93d@coffeebean.com>":
 \nNota: En aquesta data estava prevista l’excursió a la Pobla de Claramunt
 \, però per motius organitzatius\, es va permutar aquella sortida per aque
 sta.\nLloc i hora de trobada: 06.55 h a Rodalies Plaça Catalunya Tren R-3 
 de les 07.06. Retorn Rodalies R-3 Sant Martí de Centelles.\nTransport: Tra
 nsport públic.\nInscripcions: Mitjançant grup de WhatsApp de Trescar Trave
 sses amb tren.\nDistància: 14\,5 km. Desnivell 860 m. Horari aprox: 4.30 h
 .\nDificultat: Moderada.\nItinerari: Figaró\, Sant Pere de Vallcàrquera\, 
 torrent de Can Bosc\, Serrat de les Sapines\, turó dels Corbs\, collet de 
 Sant Martí\, Tagamanent\, Can Puig-Agut\, Aiguafreda\, Sant Martí de Cente
 lles.\nMaterial: Motxilla\, barret\, roba d’abric protectora del vent i pl
 uja\, calçat de muntanya\, crema solar\, aigua. Cal portar esmorzar i dina
 r (de carmanyola)\nApunts de la sortida: Sortint de Figaró passant per la 
 font de la Noguera\, arribem al petit veïnat de Vallcàrquera. Seguim vall 
 amunt fins a les proximitats de Can Bosc. Ací el desnivell augmenta fent u
 n emboscat corriol que puja pel serrat de les Sapines fins a Can Bellver\,
  ja amb vistes al Tagamanent. Després d’un petit descens al collet de Sant
  Martí\, fem la darrera pujada fins el cim del Tagamanent\, amb el seu ant
 ic nucli enrunat i la restaurada església. Els descens el fem seguint el G
 R-5 passant per les runes de Can Puig-Agut fins Aiguafreda.\nVocal: Pep Mo
 linos (666 086 052)\nNormativa: És obligatori llegir i acomplir les Normes
  Generals de les sortides de l’AEC
DTSTART:20200710T220000Z
DTEND:20200710T220000Z
GEO:00;0
LOCATION:
ORGANIZER:
SEQUENCE:1
SUMMARY:Tagamanent pel Serrat de les Sapines
TRANSP:OPAQUE
URL:https://aec.cat/menu-properes-activitats/tagamanent-pel-serrat-de-les-s
 apines/2020-07-11-00-00
END:VEVENT
END:VCALENDAR
