BEGIN:VCALENDAR
VERSION:2.0
PRODID:-//Agrupació Excursionista "Catalunya"//NONSGML kigkonsult.se iCalcreator 2.41.92//
CALSCALE:GREGORIAN
METHOD:PUBLISH
UID:65363763-3464-4530-a138-333838393539
X-WR-CALNAME:iCagenda
X-WR-CALDESC:Event Management Extension for Joomla!
X-WR-RELCALID:3E26604A-50F4-4449-8B3E-E4F4932D05B5
X-WR-TIMEZONE:Europe/Madrid
BEGIN:VTIMEZONE
TZID:Europe/Madrid
TZUNTIL:20261025T010000Z
BEGIN:STANDARD
TZNAME:CET
DTSTART:20231029T030000
TZOFFSETFROM:+0200
TZOFFSETTO:+0100
RDATE:20241027T030000
RDATE:20251026T030000
END:STANDARD
BEGIN:DAYLIGHT
TZNAME:CEST
DTSTART:20240331T020000
TZOFFSETFROM:+0100
TZOFFSETTO:+0200
RDATE:20250330T020000
RDATE:20260329T020000
END:DAYLIGHT
END:VTIMEZONE
BEGIN:VEVENT
UID:66613137-6566-4763-b234-306163626438
DTSTAMP:20260423T123836Z
CATEGORIES:Senderisme
CLASS:PUBLIC
DESCRIPTION;ALTREP="CID:<FFFF__=0ABBE548DFE235B58f9e8a93d@coffeebean.com>":
 \nLloc i hora de trobada: 7:30 a l’Agrupa (Padilla / Provença). 7:45 Fabra
  i Puig / Meridiana.\nTransport: Autocar\; si no s’arriba a un mínim de pe
 rsones\, anirem en cotxes particulars aplicant el sistema tarifari de l’AE
 C.\nInscripcions: Import: 47 euros socis/es\, 57 euros socis/es on-line (b
 us + restaurant) Data límit d’inscripció\, dimecres 9 d’octubre a les 20h.
  Mitjançant grup de WhatsApp de SENDERISME o per correu electrònic a secre
 taria@aec.cat. En qualsevol dels dos casos cal indicar: nom de la sortida\
 , nom i cognoms del participant\, confirmació de pagament i lloc de pujada
  a l’autocar. Cal ingressar l’import al compte de l’Agrupa: Caixa d’Enginy
 ers (ES72 3025 0017 4114 0003 1058) Indicant el nom “Capsacosta”  \nItiner
 ari: Sant Pau de Segúries (Ripollès) \, Coll de Capsacosta \, Pas dels Tra
 giners (Garrotxa)\nDesnivell:  Pujada +200 m / Baixada -500 m. Distància 9
  km. Horari aproximat 4 hores.\nDificultat: Fàcil.\nMaterial: Motxilla\, b
 arret\, roba d’abric protectora del vent i pluja\, calçat de muntanya\, cr
 ema solar\, aigua\, esmorzar (Dinar al restaurant).\nApunts de la sortida:
  Caminarem per l’únic tram conservat de la via Annia\, calçada romana que 
 fins fa poc s’utilitzava com a camí ramader\, té més de dos milers d’anys 
 d’antiguitat\,  amb la suposada funció de millorar l’accessibilitat a les 
 properes mines d’argent i ferro de Rocabruna\, està considerada com a un r
 amal de la via Augusta. Tot i que nosaltres únicament farem el tram que va
  des de Sant Pau de Segúries fins al Pas dels Traginers\, ja dins de la Va
 ll de Bianya. Cal tenir present que aquesta calçada sortia de Figueres i\,
  després de travessar els Pirineus pel Coll d’Ares\, baixava pel Vallespir
  fins al Rosselló\, on enllaçava novament amb la Via Augusta a l’alçada de
 l Voló.\nVocal: Àngel Porras (661 846 175)\nNormativa: És obligatori llegi
 r i acomplir les Normes Generals de les sortides de l’AEC.
DTSTART:20241011T224000Z
DTEND:20241011T224000Z
GEO:00;0
LOCATION:
ORGANIZER:
SEQUENCE:1
SUMMARY:Via Romana Capsacosta
TRANSP:OPAQUE
URL:https://aec.cat/menu-properes-activitats/via-romana-capsacosta/2024-10-
 12-00-40
END:VEVENT
END:VCALENDAR
